BEGIN:VCALENDAR
VERSION:2.0
PRODID:-//https://www.gustav-walle-schule.de///NONSGML kigkonsult.se iCalcreator 2.10.15//
METHOD:PUBLISH
BEGIN:VEVENT
UID:20260419T151834CEST-2513vVFLVr@https://www.gustav-walle-schule.de/
DTSTAMP:20260419T131834Z
DESCRIPTION:\nTerminplanung MSA\n\n\nAbschlussprüfung zum Mittleren Schulab
 schluss an der Mittelschule 2024\nAnmeldeschluss für externe Teilnehmer: 0
 1.02.2024\nFür die schriftliche Abschlussprüfung gilt folgender Zeitplan:
 \nDienstag\, 18.&nbsp\;Juni 2024\nDeutsch (§&nbsp\;29 Abs.&nbsp\;5 Nr.&nbs
 p\;1 MSO)\n215&nbsp\;Minuten Arbeitszeit\nMittwoch\, 19.&nbsp\;Juni 2024\n
 Muttersprache (§&nbsp\;7 Abs.&nbsp\;3 und §&nbsp\;29 Abs.&nbsp\;5 Nr.&nbsp
 \;5 MSO)\n140&nbsp\;Minuten Arbeitszeit (Ausnahme: Die Arbeitszeit in der 
 Prüfung in chinesischer Sprache beträgt 160&nbsp\;Minuten.)\n\n\n\nTeil&nb
 sp\;A\nTextgebundenes Schreiben\n\n\nTeil&nbsp\;B\nImpulsgesteuertes Schre
 iben\n\n\n\n&nbsp\;\nMittwoch\, 19.&nbsp\;Juni 2024\nEnglisch (§&nbsp\;29 
 Abs.&nbsp\;5 Nr.&nbsp\;3 MSO)\n135&nbsp\;Minuten Arbeitszeit\n\n\n\nTeil&n
 bsp\;A\nHör- und Hörsehverstehen\n\n\nTeil&nbsp\;B\nSprachgebrauch\n\n\nTe
 il&nbsp\;C\nLeseverstehen\n\n\nTeil&nbsp\;D\nSprachmitteilung\n\n\nTeil&nb
 sp\;E\nText- und Medienkompetenzen\n\n\nTeil&nbsp\;F\nSchreiben\n\n\n\n&nb
 sp\;\nDonnerstag\, 20.&nbsp\;Juni 2024\nMathematik (§&nbsp\;29 Abs.&nbsp\;
 5 Nr.&nbsp\;2 MSO)\n180&nbsp\;Minuten Arbeitszeit\n\n\n\nTeil&nbsp\;A\n8.3
 0 bis 9.00&nbsp\;Uhr\n\n\nTeil&nbsp\;B\n9.10 bis 11.40&nbsp\;Uhr\n\n\n\n&n
 bsp\;\n\n1.3\nZentrale Prüfung im Fach Deutsch\n\nDie Abschlussprüfung zum
  mittleren Schulabschluss an der Mittelschule sowie der Mittelschulstufe a
 n Förderzentren und an Schulen für Kranke im Fach Deutsch besteht in dem s
 eit dem Schuljahr&nbsp\;2022/2023 bestehenden Prüfungsformat aus nur einem
  Prüfungsteil mit integrativen Aufgabenformaten. Für individuelle Unterstü
 tzung\, Nachteilsausgleich und Notenschutz gelten Art.&nbsp\;52 Abs.&nbsp\
 ;5 BayEUG und §§&nbsp\;31&nbsp\;ff. BaySchO. Prüflinge\, denen Notenschutz
  nach §&nbsp\;34 Abs.&nbsp\;7 Nr.&nbsp\;1 BaySchO gewährt wird\, ist für d
 ie gesamte Prüfung Notenschutz zu gewähren\, soweit die Voraussetzung hier
 zu vorliegen.\n\n1.4\nFernprüfung in der nichtdeutschen Muttersprache\n\nT
 eilnehmen können alle Schülerinnen und Schüler der Mittelschule mit nichtd
 eutscher Muttersprache\, vorausgesetzt\, sie können aus nicht selbst zu ve
 rtretenden Gründen den erforderlichen Leistungsstand in Englisch nicht auf
 weisen und es steht eine Korrektorin bzw. ein Korrektor für die jeweilige 
 Muttersprache zur Verfügung.\nDas Angebot an möglichen Sprachen wird im Ok
 tober&nbsp\;2023 bekannt gegeben.\nDen Teilnehmerinnen und Teilnehmern im 
 Fach Muttersprache wird empfohlen\, soweit möglich an Lehrgängen in der Mu
 ttersprache (insbesondere am so genannten konsularischen Unterricht) teilz
 unehmen.\nPrüfungstermine im Schuljahr&nbsp\;2023/2024 sind:\nDonnerstag\,
  18.&nbsp\;Januar 2024 (1.&nbsp\;Zwischenprüfung)\nDonnerstag\, 7.&nbsp\;M
 ärz 2024 (2.&nbsp\;Zwischenprüfung)\nMittwoch\, 19.&nbsp\;Juni 2024 (Absch
 lussprüfung)\n\n1.5\nProjektprüfung\n\nDie Termine der Projektprüfung werd
 en – wie bei allen schulhausinternen Prüfungen – von der Schule festgesetz
 t.\n\n1.6\nMeldung der voraussichtlichen Teilnehmerinnen und Teilnehmer an
  der Fernprüfung\n\nDie Schulen werden gebeten\, dem Staatsministerium bis
  spätestens&nbsp\;10.&nbsp\;November 2023&nbsp\;die Zahl der Teilnehmerinn
 en und Teilnehmer\, bei denen die Härtefallregel zutrifft\, am Fernprüfver
 fahren (Muttersprache) zu melden. Die Zahl der voraussichtlichen Teilnehme
 rinnen und Teilnehmer an den Abschlussprüfungen in den Fächern Deutsch\, M
 athematik und Englisch benötigt das Staatsministerium bis zum 7.&nbsp\;Feb
 ruar 2024. Hierzu ergehen gesonderte Schreiben.\n\n1.7\nMeldung der Ergebn
 isse\n\nDie Ergebnisse der Abschlussprüfung zum mittleren Schulabschluss a
 n der Mittelschule werden nach Abschluss der Prüfungen erhoben. Hierzu erg
 eht ebenfalls ein gesondertes Schreiben.\n\n1.8\nTermine: Anmeldung für de
 n Eintritt in die 10.&nbsp\;Klasse\n\nFür Schülerinnen und Schüler aus Reg
 elklassen der Jahrgangsstufe&nbsp\;9 der Mittelschule\, die zum Schuljahr&
 nbsp\;2024/2025 in die 10.&nbsp\;Klasse der Mittelschule eintreten wollen\
 , sind die Anmeldetermine am&nbsp\;Freitag\, 19.&nbsp\;Juli 2024&nbsp\;und
  am&nbsp\;Montag\, 22.&nbsp\;Juli 2024. Die notwendigen Aufnahmeprüfungen 
 für die 10.&nbsp\;Jahrgangsstufe sollen noch im Juli durchgeführt werden.
 \n\n1.9\nNachholtermin\n\nWer infolge eines nicht selbst zu vertretenden G
 rundes an der Abschlussprüfung zum mittleren Schulabschluss an der Mittels
 chule ganz oder teilweise nicht teilnehmen konnte\, kann die Prüfung oder 
 die fehlenden Teile der Prüfung an folgenden Terminen nachholen (§&nbsp\;3
 2 Abs.&nbsp\;1 MSO):\nDienstag\, 17.&nbsp\;September 2024: Deutsch\nMittwo
 ch\, 18.&nbsp\;September 2024: Englisch/Muttersprache\nDonnerstag\, 19.&nb
 sp\;September 2024: Mathematik\nDie Aufgaben für Deutsch\, Englisch\, nich
 tdeutsche Muttersprache und Mathematik werden bei Bedarf nach schriftliche
 r Anforderung vom Staatsministerium zugesandt. Die Anforderung wird ggf. b
 is zum&nbsp\;1.&nbsp\;August 2024&nbsp\;erbeten. Die Aufgaben in den übrig
 en Fächern stellt die Schule selbst.\n\n1.10\nTeilnahme anderer Bewerberin
 nen oder Bewerber\n\nDie Anmeldung der Bewerberinnen und Bewerber\, die an
  der von ihnen besuchten Schule keinen mittleren Schulabschluss erwerben k
 önnen oder die keiner Schule angehören\, erfolgt gemäß §&nbsp\;33 Abs.&nbs
 p\;2 Satz&nbsp\;1 MSO bis spätestens zum 1.&nbsp\;Februar 2024 an der Mitt
 elschule\, welche eine 10.&nbsp\;Jahrgangsstufe führt und in deren Sprenge
 l die Bewerberinnen und Bewerber ihren gewöhnlichen Aufenthalt haben.\nDie
  Termine für die Projektprüfungen in den arbeitspraktischen Fächern Techni
 k\, Wirtschaft und Kommunikation\, Ernährung und Soziales in Verbindung mi
 t Wirtschaft und Beruf werden von der Schule individuell festgelegt und fi
 ndet in der Regel vor den theoretischen Prüfungen statt. Externe Schüler e
 rkundigen sich rechtzeitig und selbstständig bei den prüfenden Lehrkräften
  nach dem Prüfungsstoff in den praktischen Fächern!\nWenn Sie einen Abschl
 uss als externer Teilnehmer ablegen möchten\, melden Sie bitte bis jeweils
  01. Februar persönlich bei uns an und&nbsp\;informieren Sie sich über die
  Prüfungsmodalitäten beim Staatsministerium für Unterricht und Kultus.\nSo
 llte ein Schüler an einem Prüfungstag erkranken\, muss am gleichen Tag ein
  ärztliches Attest vorgelegt werden. Je nach versäumtem Prüfungsteil wird 
 ein Nachholtermin entweder von der Schule oder vom Kultusministerium für g
 anz Bayern festgelegt.&nbsp\;\n https://www.gustav-walle-schule.de/schulle
 ben/termine/event/117-quali-englisch-muendlich
DTSTART:20240605T220000Z
DTEND:20240607T210000Z
LOCATION:Gustav-Walle-Schule (Schwabenstraße 12\, 97078\, Würzburg\, Versba
 ch\, Bayern)
SUMMARY:Quali Englisch mündlich
URL:https://www.gustav-walle-schule.de/schulleben/termine/event/117-quali-e
 nglisch-muendlich
END:VEVENT
END:VCALENDAR
