BEGIN:VCALENDAR
VERSION:2.0
PRODID:-//https://www.gustav-walle-schule.de///NONSGML kigkonsult.se iCalcreator 2.10.15//
METHOD:PUBLISH
BEGIN:VEVENT
UID:20260422T165845CEST-11524hlrHE@https://www.gustav-walle-schule.de/
DTSTAMP:20260422T145845Z
DESCRIPTION: https://www.gustav-walle-schule.de/schulleben/termine/event/15
 4-interne-quali-pruefungen-sp-mu-ku-reli-ethik-isl-u-daz-info
DTSTART:20260426T220000Z
DTEND:20260430T210000Z
LOCATION:Gustav-Walle-Schule (Schwabenstraße 12\, 97078\, Würzburg\, Versba
 ch\, Bayern)
SUMMARY:Interne Quali Prüfungen Sp\, Mu\, Ku\, Reli\, Ethik\, Isl.U.\, DaZ\
 , Info
URL:https://www.gustav-walle-schule.de/schulleben/termine/event/154-interne
 -quali-pruefungen-sp-mu-ku-reli-ethik-isl-u-daz-info
END:VEVENT
END:VCALENDAR
