BEGIN:VCALENDAR
VERSION:2.0
PRODID:-//https://www.gustav-walle-schule.de///NONSGML kigkonsult.se iCalcreator 2.10.15//
METHOD:PUBLISH
BEGIN:VEVENT
UID:20260425T165649CEST-3733ngVh6p@https://www.gustav-walle-schule.de/
DTSTAMP:20260425T145649Z
DESCRIPTION: https://www.gustav-walle-schule.de/schulleben/termine/event/15
 5-projektpruefung-9-klassen-es-wik
DTSTART:20260504T060000Z
DTEND:20260508T110000Z
LOCATION:Gustav-Walle-Schule (Schwabenstraße 12\, 97078\, Würzburg\, Versba
 ch\, Bayern)
SUMMARY:Projektprüfung 9. Klassen ES & WiK
URL:https://www.gustav-walle-schule.de/schulleben/termine/event/155-projekt
 pruefung-9-klassen-es-wik
END:VEVENT
END:VCALENDAR
